BEGIN:VCALENDAR
VERSION:2.0
PRODID:-//VolunteerBarrie//CommunityEvents//EN
CALSCALE:GREGORIAN
BEGIN:VEVENT
SUMMARY:Women Connect - August 2026
DTSTAMP:20260424T195612Z
DTSTART:20260827T220000Z
DTEND:20260828T000000Z
LOCATION:Bloom Bistro
DESCRIPTION:<p>Where Ambitious Women Meet\, Connect &amp\; Rise!</p><p>This
  is a curated experience for women who are building\, growing\, and leading
 . If you&#39\;re craving visibility\, aligned connections\, and real moment
 um\, this is your room.</p><h2>What Makes This Different?</h2><p>You won’t 
 just attend. You’ll be seen!</p><p>• <strong>30-Second Business Spotlight</
 strong>: Every woman introduces herself and her business</p><p>• <strong>Cu
 rated Local Vendors</strong>: Shop\, support\, collaborate</p><p>• <strong>
 Food by Bloom Bistro</strong>: Elevated bites\, beautifully curated</p><p>•
  <strong>Featured Guest Speaker</strong>: Real stories. Real strategy. Real
  inspiration</p><p>• <strong>Professional Event Photography</strong>: Conte
 nt + visibility for your brand</p><p>• <strong>Social Media Shout Outs</str
 ong>: We amplify the women in our room</p><p>• <strong>Charity Spotlight</s
 trong>: Because impact matters</p><p>This is Connection with Intention!</p>
 <h2>Who Is This For?</h2><p>Entrepreneurs. Creatives. Founders. Professiona
 ls. Women ready to expand their circle and their impact. If you’re building
  something meaningful\, you belong here.</p><p><strong>Vendor Form:</strong
 > https://forms.gle/d1YRsCQcdWdt93p6A</p><h2>Why Women Keep Coming Back?</h
 2><p>Because deals happen here. Collaborations start here. Friendships form
  here. Confidence grows here. And the energy? Unmatched.</p><p>Seats are li
 mited to protect the intimacy and quality of the room.</p><p>When we’re ful
 l\, registration closes.</p>
URL:https://volunteerbarrie.ca/fr/evenements/women-connect-august-2026/
UID:event-58@volunteerbarrie.ca
END:VEVENT
END:VCALENDAR