BEGIN:VCALENDAR
VERSION:2.0
PRODID:-//VolunteerBarrie//CommunityEvents//EN
CALSCALE:GREGORIAN
BEGIN:VEVENT
SUMMARY:MASALA CARES - Dinner Series
DTSTAMP:20260424T195032Z
DTSTART:20260504T210000Z
DTEND:20260505T010000Z
LOCATION:The Masala Indian Kitchen and Bar
DESCRIPTION:<p><strong>Masala Cares: Community Dinner Series</strong></p><p
 ><strong>Supporting Barrie Food Bank</strong></p><p>📅 <strong>Monday\, May 
 4 </strong>⏰ <strong>5:00 PM – 9:00 PM</strong></p><p>📍 <strong>The Masala 
 – 422 Dunlop Street West\, Barrie</strong></p><p>On this special day\, <str
 ong>25% of total sales</strong> will be donated directly to the <strong>Bar
 rie Food Bank</strong>\, helping provide essential food and support to indi
 viduals and families in our community facing food insecurity. This is your 
 opportunity to enjoy an incredible dining experience while giving back to a
  meaningful local cause.</p><p><strong>Special Family Offer:</strong> Kids 
 under 10 eat FREE. (Per Kid/Per Adult)</p><p>Whether you&#39\;re planning a
  family dinner\, a date night\, or a gathering with friends\, your presence
  helps make a difference. Let’s fill the restaurant with generosity\, conne
 ction\, and purpose.</p><p><strong>What to Expect:</strong></p><ul><li>Barr
 ie’s Signature Indian dining experience</li><li>Delicious 4 Course Dinner</
 li><li>Warm\, elegant ambiance perfect for families &amp\; friends</li><li>
 A simple way to turn your dinner into direct community impact</li></ul><p>📞
  <strong>Reserve your table today:</strong> 705-985-7999</p><p>🌐 Reservatio
 ns highly recommended</p><p>Together\, we dine. Together\, we give. Togethe
 r\, we care.</p>
URL:https://volunteerbarrie.ca/fr/evenements/masala-cares-dinner-series/
UID:event-54@volunteerbarrie.ca
END:VEVENT
END:VCALENDAR