BEGIN:VCALENDAR
VERSION:2.0
PRODID:-//VolunteerBarrie//CommunityEvents//EN
CALSCALE:GREGORIAN
BEGIN:VEVENT
SUMMARY:Masala Cares: Community Dinner Series
DTSTAMP:20260422T053034Z
DTSTART:20260316T210000Z
DTEND:20260317T010000Z
LOCATION:The Masala Indian Kitchen and Bar
DESCRIPTION:<p>An evening where great food supports a great cause.</p><p>📅 
 <strong>Monday\, March 16</strong> | ⏰ <strong>5:00 PM – 9:00 PM</strong></
 p><p> 📍 <strong>The Masala – 422 Dunlop Street West\, Barrie</strong></p><p
 ><strong> </strong>Bring your family\, friends\, or plan a cozy dinner date
 \, and turn your meal into meaningful community support.</p><p>✨ <strong>Sp
 ecial Offer:</strong> Kids under 10 eat <strong>FREE</strong>.</p><p><stron
 g>🎟 $30 per person\, and 25% of total sales will be donated to the Women &a
 mp\; Children’s Shelter of Barrie</strong>\, support women and children in 
 our community who need safety\, care\, and hope.</p><p>🍽 <strong>5-Course D
 inner Menu</strong></p><p> • Sweet Corn Vegetable Soup • Gobi Manchurian • 
 Choice of Main: Veg – Dal Tadka or Paneer Butter Masala • Non-Veg – Butter 
 Chicken or Chicken Tikka Masala • Basmati Rice &amp\; Butter Naan • Dessert
  – Rasmalai</p><p>📞 705-985-7999 | 📧 <a href="mailto:info@themasala.ca" tar
 get="_blank">info@themasala.ca</a></p><p> <strong>🎟 https://MasalaCaresDinn
 erSeries.eventbrite.ca</strong></p><p> Reservations are highly recommended.
 </p><p><strong>Together\, we dine. Together\, we give. Together\, we care.<
 /strong></p>
URL:https://volunteerbarrie.ca/events/masala-cares-community-dinner-series/
UID:event-49@volunteerbarrie.ca
END:VEVENT
END:VCALENDAR